BEGIN:VCALENDAR
PRODID:-//eluceo/ical//2.0/EN
VERSION:2.0
CALSCALE:GREGORIAN
BEGIN:VEVENT
UID:e22c19986006f960ca0d01de974c5fd0
DTSTAMP:20260423T040724Z
SUMMARY:Primeo / Herausforderungen im Strommarkt
DESCRIPTION:Web stranica: http://www.weiherschloss.ch\nGovornik(ci): Lukas 
 Küng Geschäftsführer Primeo Netz
URL:https://rcbobi.ch/bs/agenda/show/144217
DTSTART;TZID=Europe/Zurich:20220719T114500
DTEND;TZID=Europe/Zurich:20220719T133000
LOCATION:Restaurant Schloss Bottmingen - Mittagslunch\, Schlossgasse 9\, 41
 03 Bottmingen\, Schweiz
CATEGORIES:Rotary
END:VEVENT
BEGIN:VTIMEZONE
TZID:Europe/Zurich
BEGIN:DAYLIGHT
DTSTART:20220719T114500
TZNAME:CEST
TZOFFSETTO:+0200
TZOFFSETFROM:+0200
END:DAYLIGHT
END:VTIMEZONE
END:VCALENDAR
